BEGIN:VCALENDAR
VERSION:2.0
PRODID:-//Amazing Shows - ECPv6.15.20//NONSGML v1.0//EN
CALSCALE:GREGORIAN
METHOD:PUBLISH
X-WR-CALNAME:Amazing Shows
X-ORIGINAL-URL:https://amazingshows.com
X-WR-CALDESC:Events for Amazing Shows
REFRESH-INTERVAL;VALUE=DURATION:PT1H
X-Robots-Tag:noindex
X-PUBLISHED-TTL:PT1H
BEGIN:VTIMEZONE
TZID:America/Denver
BEGIN:DAYLIGHT
TZOFFSETFROM:-0700
TZOFFSETTO:-0600
TZNAME:MDT
DTSTART:20230312T090000
END:DAYLIGHT
BEGIN:STANDARD
TZOFFSETFROM:-0600
TZOFFSETTO:-0700
TZNAME:MST
DTSTART:20231105T080000
END:STANDARD
BEGIN:DAYLIGHT
TZOFFSETFROM:-0700
TZOFFSETTO:-0600
TZNAME:MDT
DTSTART:20240310T090000
END:DAYLIGHT
BEGIN:STANDARD
TZOFFSETFROM:-0600
TZOFFSETTO:-0700
TZNAME:MST
DTSTART:20241103T080000
END:STANDARD
BEGIN:DAYLIGHT
TZOFFSETFROM:-0700
TZOFFSETTO:-0600
TZNAME:MDT
DTSTART:20250309T090000
END:DAYLIGHT
BEGIN:STANDARD
TZOFFSETFROM:-0600
TZOFFSETTO:-0700
TZNAME:MST
DTSTART:20251102T080000
END:STANDARD
END:VTIMEZONE
BEGIN:VEVENT
DTSTART;TZID=America/Denver:20240831T163000
DTEND;TZID=America/Denver:20240907T220000
DTSTAMP:20260421T105928
CREATED:20240520T232947Z
LAST-MODIFIED:20240520T233011Z
UID:4577-1725121800-1725746400@amazingshows.com
SUMMARY:Dream Masterz at Savannah family reunion party
DESCRIPTION:Award-Winning Illusion Team\, Dream Masterz!Carol Massie & Joe Givan
URL:https://amazingshows.com/show/dream-masterz-at-savannah-family-reunion-party/
CATEGORIES:Client Appreciation Party with Show,Dream Masterz Performances
END:VEVENT
END:VCALENDAR