BEGIN:VCALENDAR
VERSION:2.0
PRODID:-//Amazing Shows - ECPv6.15.20//NONSGML v1.0//EN
CALSCALE:GREGORIAN
METHOD:PUBLISH
X-WR-CALNAME:Amazing Shows
X-ORIGINAL-URL:https://amazingshows.com
X-WR-CALDESC:Events for Amazing Shows
REFRESH-INTERVAL;VALUE=DURATION:PT1H
X-Robots-Tag:noindex
X-PUBLISHED-TTL:PT1H
BEGIN:VTIMEZONE
TZID:America/Denver
BEGIN:DAYLIGHT
TZOFFSETFROM:-0700
TZOFFSETTO:-0600
TZNAME:MDT
DTSTART:20230312T090000
END:DAYLIGHT
BEGIN:STANDARD
TZOFFSETFROM:-0600
TZOFFSETTO:-0700
TZNAME:MST
DTSTART:20231105T080000
END:STANDARD
BEGIN:DAYLIGHT
TZOFFSETFROM:-0700
TZOFFSETTO:-0600
TZNAME:MDT
DTSTART:20240310T090000
END:DAYLIGHT
BEGIN:STANDARD
TZOFFSETFROM:-0600
TZOFFSETTO:-0700
TZNAME:MST
DTSTART:20241103T080000
END:STANDARD
BEGIN:DAYLIGHT
TZOFFSETFROM:-0700
TZOFFSETTO:-0600
TZNAME:MDT
DTSTART:20250309T090000
END:DAYLIGHT
BEGIN:STANDARD
TZOFFSETFROM:-0600
TZOFFSETTO:-0700
TZNAME:MST
DTSTART:20251102T080000
END:STANDARD
END:VTIMEZONE
BEGIN:VEVENT
DTSTART;TZID=America/Denver:20240708T093000
DTEND;TZID=America/Denver:20240711T120000
DTSTAMP:20260420T195659
CREATED:20240213T224708Z
LAST-MODIFIED:20240419T054049Z
UID:4226-1720431000-1720699200@amazingshows.com
SUMMARY:WIZARD Camp dates 2024 - More to be added
DESCRIPTION:Activities include Learning Magic\, which is excellent for dexterity self-confidence stage presence\, coordination\, creativity\, and self-motivation. Performance skills are emphasized  We include a stage recital in a fully equipped theatre on the final day of camp for family and friends. Learn Magic Illusion Mentalism\, Sleight of Hand and Stage Performance AGES 7 and up Girls Boys\, and Adults too.   Private Lessons are available for advanced students and adults. All students will learn stage performance and creativity skills. \nTIME  930 am Noon each day with Professional Recital Stage Show on Thursday at noon for family and friends and family. \nCOST  $195 includes all supplies needed tote bag  plus Recital Show for family friends at Noon Thursday on the final day. \nTo sign up  Mail 195  check payable to Dream Masterz to  3721 Starflower Road   Castle Rock CO 80109  MUST SIGN UP 3 weeks prior.       Please include the students name age and magic experience if any  Liability forms to be signed by parent or guardian on first day of camp \nWHERE  Theatre of Dreams    735 Park St  – Unit C D  Castle Rock CO   80109     303 660-6799         Note We will offer cookies and sugar free lemonade on break    Your student may bring a different snack if desired.
URL:https://amazingshows.com/show/wizard-camp-dates-2024more-to-be-added/
LOCATION:Theatre of Dreams in Castle Rock – open since 2003!  Or THE MAGIC MANOR in SEDALIA\, CO!\, 735 Park St C & D\, Castle Rock\, CO\, 80109\, United States
CATEGORIES:Classes,Public Shows,Recital
END:VEVENT
END:VCALENDAR